BEGIN:VCALENDAR
VERSION:2.0
PRODID:icalendar-ruby
CALSCALE:GREGORIAN
METHOD:PUBLISH
BEGIN:VEVENT
DTSTAMP:20260423T213050Z
UID:3-540739@iglesiabethelnc.com
DTSTART:20260913T180000Z
DTEND:20260913T200000Z
CLASS:PUBLIC
CREATED:20260423T164852
DESCRIPTION:Here is where you can inlcude the event information and descrip
 tion along with any registration information if needed.
LAST-MODIFIED:20260423T164852
LOCATION:3317 Summit Ave.\, Greensboro\, NC 27405
SUMMARY:Culto General
URL;VALUE=URI:https://iglesiabethelnc.com/events/culto-general--3/2026-09-1
 3
ATTACH;FILENAME=sBLI.jpg;FMTTYPE=image/jpeg:https://dq5pwpg1q8ru0.cloudfron
 t.net/2024/01/03/15/28/10/9f4c1d92-4c97-48a5-90f2-85c02d6c3869/sBLI.jpg
END:VEVENT
END:VCALENDAR
